BEGIN:VCALENDAR
VERSION:2.0
PRODID:-//Tukios.com/
BEGIN:VEVENT
UID:72a262ac-59da-4120-8bdd-970bcbe7b58e@www.calfeefuneralhome.com
DTSTAMP:20260422T184650Z
DTSTART:20260501T160000Z
DTEND:20260501T170000Z
SUMMARY:Funeral Service
DESCRIPTION:
URL:https://www.calfeefuneralhome.com/obituaries/rosalie-stanley
LOCATION: 1925 Harper Rd.  Beckley WV 
GEO:37.7905005;-81.2131109
END:VEVENT
END:VCALENDAR