BEGIN:VCALENDAR
VERSION:2.0
PRODID:-//Tukios.com/
BEGIN:VEVENT
UID:17861d4e-3b12-44e7-8d95-53ffe0504eb7@www.calfeefuneralhome.com
DTSTAMP:20260422T184439Z
DTSTART:20260501T153000Z
DTEND:20260501T160000Z
SUMMARY:Visitation
DESCRIPTION:
URL:https://www.calfeefuneralhome.com/obituaries/rosalie-stanley
LOCATION: 1925 Harper Rd.  Beckley WV 
GEO:37.7905005;-81.2131109
END:VEVENT
END:VCALENDAR