BEGIN:VCALENDAR
VERSION:2.0
PRODID:-//Tukios.com/
BEGIN:VEVENT
UID:b8f77303-ac61-4141-89d9-4ee3b38602b0@www.calfeefuneralhome.com
DTSTAMP:20260423T042937Z
DTSTART:20260424T160000Z
DTEND:20260424T170000Z
SUMMARY:Funeral Service
DESCRIPTION:
URL:https://www.calfeefuneralhome.com/obituaries/james-snodgrass
LOCATION: 142 Co Rte 3/37  Rock Creek WV 25174
GEO:37.8509195;-81.4509834
END:VEVENT
END:VCALENDAR