BEGIN:VCALENDAR
VERSION:2.0
PRODID:-//Tukios.com/
BEGIN:VEVENT
UID:5ec547c5-f6f7-4ed3-b2b7-e04eb55e2b0a@www.calfeefuneralhome.com
DTSTAMP:20260423T042110Z
DTSTART:20260424T150000Z
DTEND:20260424T160000Z
SUMMARY:Visitation
DESCRIPTION:
URL:https://www.calfeefuneralhome.com/obituaries/james-snodgrass
LOCATION: 142 Co Rte 3/37  Rock Creek WV 25174
GEO:37.8509195;-81.4509834
END:VEVENT
END:VCALENDAR